BEGIN:VCALENDAR
VERSION:2.0
PRODID:DPCALENDAR
CALSCALE:GREGORIAN
BEGIN:VTIMEZONE
TZID:Europe/Helsinki
X-MICROSOFT-CDO-TZID:59
BEGIN:STANDARD
DTSTART:20251026T010000
TZOFFSETFROM:+0300
TZOFFSETTO:+0200
TZNAME:EET
END:STANDARD
BEGIN:DAYLIGHT
DTSTART:20260329T010000
TZOFFSETFROM:+0200
TZOFFSETTO:+0300
TZNAME:EEST
END:DAYLIGHT
BEGIN:STANDARD
DTSTART:20261025T010000
TZOFFSETFROM:+0300
TZOFFSETTO:+0200
TZNAME:EET
END:STANDARD
END:VTIMEZONE
X-WR-TIMEZONE:Europe/Helsinki
BEGIN:VEVENT
DTSTART;TZID=Europe/Helsinki:20260505T080000
DTEND;TZID=Europe/Helsinki:20260505T083000
UID:71i32cj56osm8b9oc9h3eb9k6pij0bb26li66bb3cpgm4p1lcli6ac1k74@google.com
SUMMARY:Aamurukous- live Facebook
DTSTAMP:20260423T054643Z
DESCRIPTION:
X-ALT-DESC;FMTTYPE=text/html:
LAST-MODIFIED:20260423T054643Z
X-ACCESS:1
X-HITS:0
X-URL:https://www.google.com/calendar/event?eid=NzFpMzJjajU2b3NtOGI5b2M5aDNlYjlrNnBpajBiYjI2bGk2NmJiM2NwZ200cDFsY2xpNmFjMWs3NCB2YXBhYXNya0Bt
X-COLOR:2EA4FF
END:VEVENT
END:VCALENDAR